BEGIN:VCALENDAR
VERSION:2.0
PRODID:-//Collaboration on International ICT Policy for East and Southern Africa (CIPESA) - ECPv6.15.20//NONSGML v1.0//EN
CALSCALE:GREGORIAN
METHOD:PUBLISH
X-ORIGINAL-URL:https://cipesa.org
X-WR-CALDESC:Events for Collaboration on International ICT Policy for East and Southern Africa (CIPESA)
REFRESH-INTERVAL;VALUE=DURATION:PT1H
X-Robots-Tag:noindex
X-PUBLISHED-TTL:PT1H
BEGIN:VTIMEZONE
TZID:UTC
BEGIN:STANDARD
TZOFFSETFROM:+0000
TZOFFSETTO:+0000
TZNAME:UTC
DTSTART:20220101T000000
END:STANDARD
END:VTIMEZONE
BEGIN:VEVENT
DTSTART;VALUE=DATE:20230524
DTEND;VALUE=DATE:20230527
DTSTAMP:20260423T103921
CREATED:20230411T072155Z
LAST-MODIFIED:20230411T072155Z
UID:12235-1684886400-1685145599@cipesa.org
SUMMARY:World Technology Law Conference 2023
DESCRIPTION:Attending an ITechLaw conference is “an exciting opportunity to meet colleagues and friends across the globe who are similarly passionate about law and technology. Click here to read more on the event.
URL:https://cipesa.org/event/world-technology-law-conference-2023/
LOCATION:Toronto\, Canada\, Toronto\, Canada\, Toronto\, Canada
CATEGORIES:Events
END:VEVENT
END:VCALENDAR