BEGIN:VCALENDAR
VERSION:2.0
PRODID:-//Collaboration on International ICT Policy for East and Southern Africa (CIPESA) - ECPv6.15.20//NONSGML v1.0//EN
CALSCALE:GREGORIAN
METHOD:PUBLISH
X-ORIGINAL-URL:https://cipesa.org
X-WR-CALDESC:Events for Collaboration on International ICT Policy for East and Southern Africa (CIPESA)
REFRESH-INTERVAL;VALUE=DURATION:PT1H
X-Robots-Tag:noindex
X-PUBLISHED-TTL:PT1H
BEGIN:VTIMEZONE
TZID:Africa/Kampala
BEGIN:STANDARD
TZOFFSETFROM:+0300
TZOFFSETTO:+0300
TZNAME:EAT
DTSTART:20190101T000000
END:STANDARD
END:VTIMEZONE
BEGIN:VEVENT
DTSTART;VALUE=DATE:20200831
DTEND;VALUE=DATE:20200903
DTSTAMP:20260419T213051
CREATED:20200302T145847Z
LAST-MODIFIED:20200302T145847Z
UID:9343-1598832000-1599091199@cipesa.org
SUMMARY:EGOV-CeDEM-ePart 2020
DESCRIPTION:The conference focuses on e-Government\, Open Government\, eParticipation and e-Democracy\, but on several other related topics too\, such as the role of social media\, digital transformation in society\, Artificial Intelligence\, policy information\, smart governance and social innovation. \nClick here for the event details.
URL:https://cipesa.org/event/egov-cedem-epart-2020/
LOCATION:Sweden\, Linköping University\, Sweden
CATEGORIES:Events
END:VEVENT
END:VCALENDAR