BEGIN:VCALENDAR
VERSION:2.0
PRODID:-//Collaboration on International ICT Policy for East and Southern Africa (CIPESA) - ECPv6.15.20//NONSGML v1.0//EN
CALSCALE:GREGORIAN
METHOD:PUBLISH
X-WR-CALNAME:Collaboration on International ICT Policy for East and Southern Africa (CIPESA)
X-ORIGINAL-URL:https://cipesa.org
X-WR-CALDESC:Events for Collaboration on International ICT Policy for East and Southern Africa (CIPESA)
REFRESH-INTERVAL;VALUE=DURATION:PT1H
X-Robots-Tag:noindex
X-PUBLISHED-TTL:PT1H
BEGIN:VTIMEZONE
TZID:Africa/Kampala
BEGIN:STANDARD
TZOFFSETFROM:+0300
TZOFFSETTO:+0300
TZNAME:EAT
DTSTART:20180101T000000
END:STANDARD
END:VTIMEZONE
BEGIN:VEVENT
DTSTART;VALUE=DATE:20190502
DTEND;VALUE=DATE:20190504
DTSTAMP:20260423T050152
CREATED:20181210T104630Z
LAST-MODIFIED:20181210T104630Z
UID:5391-1556755200-1556927999@cipesa.org
SUMMARY:World Press Freedom Day 2019
DESCRIPTION:Around 1000 participants and high-profile speakers are expected to attend the event\, including representatives from governmental and international organizations\, the media\, academia and civil society. \nSince 1993\, when the UN General Assembly declared 3 May World Press Freedom\, this day has represented an opportunity to celebrate the fundamental principles of press freedom and develop joint initiatives in this area. It also serves as an occasion to remind citizens that in many countries around the world\, censorship is rife\, while journalists\, editors and publishers continue to be harassed\, attacked\, detained and even murdered. \nSee the event page here.
URL:https://cipesa.org/event/world-press-freedom-day-2019/
LOCATION:Addis Ababa\, Ethiopia\, Addis Ababa\, Ethiopia\, Addis Ababa\, Ethiopia
CATEGORIES:Events
END:VEVENT
BEGIN:VEVENT
DTSTART;VALUE=DATE:20190521
DTEND;VALUE=DATE:20190523
DTSTAMP:20260423T050152
CREATED:20190205T153832Z
LAST-MODIFIED:20190205T153832Z
UID:5465-1558396800-1558569599@cipesa.org
SUMMARY:Global Tech Conference 2019
DESCRIPTION:ICT Spring is a Global Tech Conference hosting an array of International Professionals. This two-day yearly event is held in Luxembourg City\, at the heart of Europe\, and offers the participants a unique opportunity to deepen their Digital Knowledge\, capture the Value of the fast-growing FinTech Industry\, and explore the impact of Space Technologies on Terrestrial Businesses.\nYou can click here for more details on the event.\, Digital Age
URL:https://cipesa.org/event/global-tech-conference-2019/
LOCATION:European Convention Center\, European Convention Center
CATEGORIES:Events
END:VEVENT
BEGIN:VEVENT
DTSTART;VALUE=DATE:20190528
DTEND;VALUE=DATE:20190531
DTSTAMP:20260423T050152
CREATED:20190124T124329Z
LAST-MODIFIED:20190124T124329Z
UID:5445-1559001600-1559260799@cipesa.org
SUMMARY:2nd International Conference on ICT for Development for Africa (ICT4DA 2019)
DESCRIPTION:ICT4DA 2019 is the 2nd international conference that aims to bring together researchers\, engineers\, developers\, and practitioners from the academia and the industry to present and discuss their research work in the area of ICT for Development. This conference seeks to facilitate the transfer of experience\, adaptation of methods\, and where possible\, foster collaboration among different groups.\nClick on ICT4DA 2019 for more information on the event details.
URL:https://cipesa.org/event/2nd-international-conference-on-ict-for-development-for-africa-ict4da-2019/
LOCATION:Bahir Dar\, Ethiopia\, Addis Ababa\, Ethiopia
CATEGORIES:Events
END:VEVENT
END:VCALENDAR