BEGIN:VCALENDAR
VERSION:2.0
PRODID:-//Collaboration on International ICT Policy for East and Southern Africa (CIPESA) - ECPv6.15.20//NONSGML v1.0//EN
CALSCALE:GREGORIAN
METHOD:PUBLISH
X-ORIGINAL-URL:https://cipesa.org
X-WR-CALDESC:Events for Collaboration on International ICT Policy for East and Southern Africa (CIPESA)
REFRESH-INTERVAL;VALUE=DURATION:PT1H
X-Robots-Tag:noindex
X-PUBLISHED-TTL:PT1H
BEGIN:VTIMEZONE
TZID:Africa/Kampala
BEGIN:STANDARD
TZOFFSETFROM:+0300
TZOFFSETTO:+0300
TZNAME:EAT
DTSTART:20180101T000000
END:STANDARD
END:VTIMEZONE
BEGIN:VEVENT
DTSTART;VALUE=DATE:20190308
DTEND;VALUE=DATE:20190310
DTSTAMP:20260423T072251
CREATED:20190207T153844Z
LAST-MODIFIED:20190207T153844Z
UID:5472-1552003200-1552175999@cipesa.org
SUMMARY:International Conference on Cyber Security and Connected Technologies (ICCSCT)
DESCRIPTION:This conference is trying to establish itself as a key event for the understanding of threats and risks to information systems\, the development of a strong security culture\, and incident investigation.\nFor more information on this event\, please click here.
URL:https://cipesa.org/event/international-conference-on-cyber-security-and-connected-technologies-iccsct/
LOCATION:Taipei\, Taiwan\, Taipei\, Taiwan\, Taipei\, Taiwan
CATEGORIES:Events
END:VEVENT
BEGIN:VEVENT
DTSTART;VALUE=DATE:20190313
DTEND;VALUE=DATE:20190315
DTSTAMP:20260423T072251
CREATED:20190304T144814Z
LAST-MODIFIED:20190304T144814Z
UID:8578-1552435200-1552607999@cipesa.org
SUMMARY:DataCon Africa
DESCRIPTION:DataCon Africa\, established as a spin-off event of CDAO (Chief Data & Analytics Officer) will see international and local industry experts from various industries discuss challenges within data governance such as data remediation\, enrichment\, breaking down the silos\, data security and more. Culture Change and Change Management is becoming of utmost importance as organisations are looking to become data-driven before they are left behind and DataCon Africa will host workshops on these subjects.\nFor more information on this event\, please click here.
URL:https://cipesa.org/event/datacon-africa/
LOCATION:Cape Town\, South Africa\, Cape Town\, South Africa\, Cape Town\, South Africa
CATEGORIES:Events
END:VEVENT
BEGIN:VEVENT
DTSTART;VALUE=DATE:20190326
DTEND;VALUE=DATE:20190328
DTSTAMP:20260423T072251
CREATED:20190304T163259Z
LAST-MODIFIED:20190304T163259Z
UID:8580-1553558400-1553731199@cipesa.org
SUMMARY:Internet of Things Forum Africa
DESCRIPTION:Click here for more details on the Internet of things Africa here
URL:https://cipesa.org/event/internet-of-things-forum-africa/
LOCATION:Johannesburg\, South Africa\, Johannesburg\, South Africa\, Cape Town\, South Africa
CATEGORIES:Events
END:VEVENT
END:VCALENDAR