BEGIN:VCALENDAR
VERSION:2.0
PRODID:-//Collaboration on International ICT Policy for East and Southern Africa (CIPESA) - ECPv6.15.20//NONSGML v1.0//EN
CALSCALE:GREGORIAN
METHOD:PUBLISH
X-WR-CALNAME:Collaboration on International ICT Policy for East and Southern Africa (CIPESA)
X-ORIGINAL-URL:https://cipesa.org
X-WR-CALDESC:Events for Collaboration on International ICT Policy for East and Southern Africa (CIPESA)
REFRESH-INTERVAL;VALUE=DURATION:PT1H
X-Robots-Tag:noindex
X-PUBLISHED-TTL:PT1H
BEGIN:VTIMEZONE
TZID:Africa/Kampala
BEGIN:STANDARD
TZOFFSETFROM:+0300
TZOFFSETTO:+0300
TZNAME:EAT
DTSTART:20170101T000000
END:STANDARD
END:VTIMEZONE
BEGIN:VEVENT
DTSTART;TZID=Africa/Kampala:20181122T080000
DTEND;TZID=Africa/Kampala:20181122T170000
DTSTAMP:20260423T140724
CREATED:20181018T140452Z
LAST-MODIFIED:20181018T140452Z
UID:5321-1542873600-1542906000@cipesa.org
SUMMARY:UbuntuNet-Connect Conference
DESCRIPTION:UbuntuNet-Connect is the Annual Conference of UbuntuNet Alliance that focuses on research and education networking activities in Africa. It is organised by UbuntuNet Alliance and hosted by member NRENs.\nUbuntuNet-Connect is the Annual Conference of UbuntuNet Alliance that focuses on research and education networking activities in Africa. It is organised by UbuntuNet Alliance and hosted by member NRENs.\nPlease click UbuntuConnect for further details.
URL:https://cipesa.org/event/ubuntunet-connect-conference/
CATEGORIES:Events
END:VEVENT
END:VCALENDAR