BEGIN:VCALENDAR
VERSION:2.0
PRODID:-//Collaboration on International ICT Policy for East and Southern Africa (CIPESA) - ECPv6.15.20//NONSGML v1.0//EN
CALSCALE:GREGORIAN
METHOD:PUBLISH
X-WR-CALNAME:Collaboration on International ICT Policy for East and Southern Africa (CIPESA)
X-ORIGINAL-URL:https://cipesa.org
X-WR-CALDESC:Events for Collaboration on International ICT Policy for East and Southern Africa (CIPESA)
REFRESH-INTERVAL;VALUE=DURATION:PT1H
X-Robots-Tag:noindex
X-PUBLISHED-TTL:PT1H
BEGIN:VTIMEZONE
TZID:Africa/Kampala
BEGIN:STANDARD
TZOFFSETFROM:+0300
TZOFFSETTO:+0300
TZNAME:EAT
DTSTART:20170101T000000
END:STANDARD
END:VTIMEZONE
BEGIN:VEVENT
DTSTART;VALUE=DATE:20181016
DTEND;VALUE=DATE:20181019
DTSTAMP:20260423T160038
CREATED:20181018T142336Z
LAST-MODIFIED:20181018T142336Z
UID:5323-1539648000-1539907199@cipesa.org
SUMMARY:African Forum on Cybercrime
DESCRIPTION:Moreover\, evidence in relation to fraud\, corruption\, murder\, rape\, terrorism\, the sexual abuse of children and\, in fact\, any type of crime may take the form of electronic evidence\, which is volatile\, often intangible and many times located in foreign jurisdictions.\nYou click here on CyberCrime to access further details on the event.
URL:https://cipesa.org/event/african-forum-on-cybercrime/
CATEGORIES:Events
END:VEVENT
END:VCALENDAR