BEGIN:VCALENDAR
VERSION:2.0
PRODID:-//Collaboration on International ICT Policy for East and Southern Africa (CIPESA) - ECPv6.15.20//NONSGML v1.0//EN
CALSCALE:GREGORIAN
METHOD:PUBLISH
X-WR-CALNAME:Collaboration on International ICT Policy for East and Southern Africa (CIPESA)
X-ORIGINAL-URL:https://cipesa.org
X-WR-CALDESC:Events for Collaboration on International ICT Policy for East and Southern Africa (CIPESA)
REFRESH-INTERVAL;VALUE=DURATION:PT1H
X-Robots-Tag:noindex
X-PUBLISHED-TTL:PT1H
BEGIN:VTIMEZONE
TZID:Africa/Kampala
BEGIN:STANDARD
TZOFFSETFROM:+0300
TZOFFSETTO:+0300
TZNAME:EAT
DTSTART:20170101T000000
END:STANDARD
END:VTIMEZONE
BEGIN:VEVENT
DTSTART;TZID=Africa/Kampala:20180926T080000
DTEND;TZID=Africa/Kampala:20180926T170000
DTSTAMP:20260420T034419
CREATED:20181018T142843Z
LAST-MODIFIED:20181018T142843Z
UID:5331-1537948800-1537981200@cipesa.org
SUMMARY:Forum on Internet Freedom in Africa (FIFAfrica18)
DESCRIPTION:The Collaboration on International ICT Policy for East and Southern Africa (CIPESA) is pleased to announce the fifth edition of the Forum on Internet Freedom in Africa (FIFAfrica). This year\, the Forum will be hosted in partnership with the Media Foundation West Africa (MFWA) and will take place on September 26–28\, 2018 in Accra\, Ghana.\nThe Forum is a landmark event that convenes various stakeholders from the internet governance and online rights arenas in Africa and beyond to deliberate on gaps\, concerns and opportunities for advancing privacy\, access to information\, free expression\, non-discrimination and the free flow of information online on the continent.\nSee the event page FIFAfrica18 for more information.
URL:https://cipesa.org/event/forum-on-internet-freedom-in-africa-fifafrica18/
LOCATION:Central Region
CATEGORIES:Events
END:VEVENT
BEGIN:VEVENT
DTSTART;VALUE=DATE:20180906
DTEND;VALUE=DATE:20180907
DTSTAMP:20260420T034419
CREATED:20181018T142509Z
LAST-MODIFIED:20181018T142509Z
UID:5325-1536192000-1536278399@cipesa.org
SUMMARY:Uganda to host the East Africa Cyber Defence Conference
DESCRIPTION:Cyber security experts from the East Africa region will meet in Kampala\, Uganda to attend the East Africa Cyber Defence conference. The 7th edition of the annual conference will focus its discussion on how the 5 East African member states can prepare for cyberattacks \nClick on NITA-Ug for further details on the event.
URL:https://cipesa.org/event/uganda-to-host-the-east-africa-cyber-defence-conference/
LOCATION:Central Region
CATEGORIES:Events
END:VEVENT
END:VCALENDAR