BEGIN:VCALENDAR
VERSION:2.0
PRODID:-//Collaboration on International ICT Policy for East and Southern Africa (CIPESA) - ECPv6.15.20//NONSGML v1.0//EN
CALSCALE:GREGORIAN
METHOD:PUBLISH
X-ORIGINAL-URL:https://cipesa.org
X-WR-CALDESC:Events for Collaboration on International ICT Policy for East and Southern Africa (CIPESA)
REFRESH-INTERVAL;VALUE=DURATION:PT1H
X-Robots-Tag:noindex
X-PUBLISHED-TTL:PT1H
BEGIN:VTIMEZONE
TZID:Africa/Kampala
BEGIN:STANDARD
TZOFFSETFROM:+0300
TZOFFSETTO:+0300
TZNAME:EAT
DTSTART:20200101T000000
END:STANDARD
END:VTIMEZONE
BEGIN:VTIMEZONE
TZID:UTC
BEGIN:STANDARD
TZOFFSETFROM:+0000
TZOFFSETTO:+0000
TZNAME:UTC
DTSTART:20200101T000000
END:STANDARD
END:VTIMEZONE
BEGIN:VEVENT
DTSTART;VALUE=DATE:20211215
DTEND;VALUE=DATE:20211218
DTSTAMP:20260419T193333
CREATED:20210325T123634Z
LAST-MODIFIED:20210325T123634Z
UID:10483-1639526400-1639785599@cipesa.org
SUMMARY:11th International Conference on Internet Technologies & Society 2021
DESCRIPTION:The Internet Technologies & Society 2021 Conference (ITS 2021) aims to address the main issues of concern within WWW/Internet as well as to assess the influence of Internet in the Information Society. Click here to access the event webpage for more information.
URL:https://cipesa.org/event/11th-international-conference-on-internet-technologies-society-2021-2/
LOCATION:Virtual
CATEGORIES:Events
END:VEVENT
BEGIN:VEVENT
DTSTART;TZID=UTC:20211215T080000
DTEND;TZID=UTC:20211217T170000
DTSTAMP:20260419T193333
CREATED:20210422T105212Z
LAST-MODIFIED:20210422T105212Z
UID:10273-1639555200-1639760400@cipesa.org
SUMMARY:11th International Conference on Internet Technologies & Society 2021
DESCRIPTION:The Internet Technologies & Society 2021 Conference (ITS 2021) aims to address the main issues of concern within WWW/Internet as well as to assess the influence of Internet in the Information Society. Click here to access the event webpage for more information.
URL:https://cipesa.org/event/11th-international-conference-on-internet-technologies-society-2021/
LOCATION:virtual
CATEGORIES:Conferences
END:VEVENT
END:VCALENDAR