BEGIN:VCALENDAR
VERSION:2.0
PRODID:-//Collaboration on International ICT Policy for East and Southern Africa (CIPESA) - ECPv6.15.20//NONSGML v1.0//EN
CALSCALE:GREGORIAN
METHOD:PUBLISH
X-ORIGINAL-URL:https://cipesa.org
X-WR-CALDESC:Events for Collaboration on International ICT Policy for East and Southern Africa (CIPESA)
REFRESH-INTERVAL;VALUE=DURATION:PT1H
X-Robots-Tag:noindex
X-PUBLISHED-TTL:PT1H
BEGIN:VTIMEZONE
TZID:Africa/Kampala
BEGIN:STANDARD
TZOFFSETFROM:+0300
TZOFFSETTO:+0300
TZNAME:EAT
DTSTART:20200101T000000
END:STANDARD
END:VTIMEZONE
BEGIN:VEVENT
DTSTART;VALUE=DATE:20210928
DTEND;VALUE=DATE:20211001
DTSTAMP:20260419T132506
CREATED:20210325T125201Z
LAST-MODIFIED:20210325T125201Z
UID:10484-1632787200-1633046399@cipesa.org
SUMMARY:Forum on Internet Freedom in Africa (FIFAfrica) 20121
DESCRIPTION:This landmark event convenes a spectrum of stakeholders from across the internet governance and digital rights arenas in Africa and beyond to deliberate on gaps\, concerns and opportunities for advancing privacy\, free expression\, non-discrimination and the free ﬂow of information online.\nFor more information on FIFAfrica 2021\, click here.
URL:https://cipesa.org/event/forum-on-internet-freedom-in-africa-fifafrica-20121/
LOCATION:Virtual
CATEGORIES:Events
END:VEVENT
END:VCALENDAR