BEGIN:VCALENDAR
VERSION:2.0
PRODID:-//Collaboration on International ICT Policy for East and Southern Africa (CIPESA) - ECPv6.15.20//NONSGML v1.0//EN
CALSCALE:GREGORIAN
METHOD:PUBLISH
X-WR-CALNAME:Collaboration on International ICT Policy for East and Southern Africa (CIPESA)
X-ORIGINAL-URL:https://cipesa.org
X-WR-CALDESC:Events for Collaboration on International ICT Policy for East and Southern Africa (CIPESA)
REFRESH-INTERVAL;VALUE=DURATION:PT1H
X-Robots-Tag:noindex
X-PUBLISHED-TTL:PT1H
BEGIN:VTIMEZONE
TZID:Africa/Kampala
BEGIN:STANDARD
TZOFFSETFROM:+0300
TZOFFSETTO:+0300
TZNAME:EAT
DTSTART:20190101T000000
END:STANDARD
END:VTIMEZONE
BEGIN:VEVENT
DTSTART;VALUE=DATE:20200623
DTEND;VALUE=DATE:20200626
DTSTAMP:20260420T032236
CREATED:20200304T143453Z
LAST-MODIFIED:20200304T143453Z
UID:9348-1592870400-1593129599@cipesa.org
SUMMARY:Digital Africa Conference and Exhibition 2020
DESCRIPTION:The Digital Africa Conference and Exhibition is Africa’s premier consumer technology show which holds annually. It provides the perfect platform to showcase your brand and enhance your reputation. Click here for the event details.
URL:https://cipesa.org/event/digital-africa-conference-and-exhibition-2020/
LOCATION:Abuja\, Nigeria\, Baze University\, Abuja\, Nigeria\, Abuja\, Nigeria
CATEGORIES:Events
END:VEVENT
END:VCALENDAR