BEGIN:VCALENDAR
VERSION:2.0
PRODID:-//Collaboration on International ICT Policy for East and Southern Africa (CIPESA) - ECPv6.15.20//NONSGML v1.0//EN
CALSCALE:GREGORIAN
METHOD:PUBLISH
X-ORIGINAL-URL:https://cipesa.org
X-WR-CALDESC:Events for Collaboration on International ICT Policy for East and Southern Africa (CIPESA)
REFRESH-INTERVAL;VALUE=DURATION:PT1H
X-Robots-Tag:noindex
X-PUBLISHED-TTL:PT1H
BEGIN:VTIMEZONE
TZID:Africa/Kampala
BEGIN:STANDARD
TZOFFSETFROM:+0300
TZOFFSETTO:+0300
TZNAME:EAT
DTSTART:20190101T000000
END:STANDARD
END:VTIMEZONE
BEGIN:VEVENT
DTSTART;VALUE=DATE:20200531
DTEND;VALUE=DATE:20200613
DTSTAMP:20260420T052811
CREATED:20200220T150250Z
LAST-MODIFIED:20200220T150250Z
UID:9303-1590883200-1592006399@cipesa.org
SUMMARY:Africa Internet Summit (AIS) 2020
DESCRIPTION:The African Internet community\, drawn from academia\, public and private sectors\, technical organisations\, governmental institutions and civil society\, interact on Internet issues and Internet development in general. Our audience benefits from various panels of international experts who deliver insightful knowledge on ICT technologies.\nClick here for more details on the event.
URL:https://cipesa.org/event/africa-internet-summit-ais-2020/
LOCATION:Democratic Republic of Congo\, Kinshasa-DRC\, Kanshasa\, Congo\, Democratic Republic of the
CATEGORIES:Events
END:VEVENT
END:VCALENDAR