BEGIN:VCALENDAR
VERSION:2.0
PRODID:-//Collaboration on International ICT Policy for East and Southern Africa (CIPESA) - ECPv6.15.20//NONSGML v1.0//EN
CALSCALE:GREGORIAN
METHOD:PUBLISH
X-WR-CALNAME:Collaboration on International ICT Policy for East and Southern Africa (CIPESA)
X-ORIGINAL-URL:https://cipesa.org
X-WR-CALDESC:Events for Collaboration on International ICT Policy for East and Southern Africa (CIPESA)
REFRESH-INTERVAL;VALUE=DURATION:PT1H
X-Robots-Tag:noindex
X-PUBLISHED-TTL:PT1H
BEGIN:VTIMEZONE
TZID:Africa/Kampala
BEGIN:STANDARD
TZOFFSETFROM:+0300
TZOFFSETTO:+0300
TZNAME:EAT
DTSTART:20190101T000000
END:STANDARD
END:VTIMEZONE
BEGIN:VEVENT
DTSTART;VALUE=DATE:20200506
DTEND;VALUE=DATE:20200509
DTSTAMP:20260420T052813
CREATED:20200110T162430Z
LAST-MODIFIED:20200110T162430Z
UID:9203-1588723200-1588982399@cipesa.org
SUMMARY:IST-Africa 2020 Conference Kampala
DESCRIPTION:Hosted by the Government of Uganda through the Ministry of Science\, Technology and Innovation\, Supported by the European Commission and African Union Commission\, IEEE Africa Council\, IEEE Uganda Section\, IST-Africa Week 2020 (Kampala\, Uganda\, May) is the fifteenth in an annual series of Ministerial Level Technology Research Conferences.\nClick here for more information on the event.
URL:https://cipesa.org/event/ist-africa-2020-conference-kampala/
LOCATION:Kampala\, Uganda\, Kampala\, Uganda\, Kampala\, Central Region\, +256\, Uganda
CATEGORIES:Events
END:VEVENT
END:VCALENDAR