BEGIN:VCALENDAR
VERSION:2.0
PRODID:-//Collaboration on International ICT Policy for East and Southern Africa (CIPESA) - ECPv6.15.20//NONSGML v1.0//EN
CALSCALE:GREGORIAN
METHOD:PUBLISH
X-ORIGINAL-URL:https://cipesa.org
X-WR-CALDESC:Events for Collaboration on International ICT Policy for East and Southern Africa (CIPESA)
REFRESH-INTERVAL;VALUE=DURATION:PT1H
X-Robots-Tag:noindex
X-PUBLISHED-TTL:PT1H
BEGIN:VTIMEZONE
TZID:Africa/Kampala
BEGIN:STANDARD
TZOFFSETFROM:+0300
TZOFFSETTO:+0300
TZNAME:EAT
DTSTART:20190101T000000
END:STANDARD
END:VTIMEZONE
BEGIN:VEVENT
DTSTART;VALUE=DATE:20200416
DTEND;VALUE=DATE:20200418
DTSTAMP:20260420T071713
CREATED:20200304T145819Z
LAST-MODIFIED:20200304T145819Z
UID:9351-1586995200-1587167999@cipesa.org
SUMMARY:International Conference on Technology\, Education and Development (ICTED 2020)
DESCRIPTION:ICTED 2020: 14. International Conference on Technology\, Education and Development aims to bring together leading academic scientists\, researchers and research scholars to exchange and share their experiences and research results on all aspects of Technology\, Education and Development. Click here for the event details.
URL:https://cipesa.org/event/international-conference-on-technology-education-and-development-icted-2020/
LOCATION:Cape Town\, South Africa\, Cape Town\, South Africa\, Cape Town\, South Africa
CATEGORIES:Events
END:VEVENT
END:VCALENDAR