BEGIN:VCALENDAR
VERSION:2.0
PRODID:-//Collaboration on International ICT Policy for East and Southern Africa (CIPESA) - ECPv6.15.20//NONSGML v1.0//EN
CALSCALE:GREGORIAN
METHOD:PUBLISH
X-ORIGINAL-URL:https://cipesa.org
X-WR-CALDESC:Events for Collaboration on International ICT Policy for East and Southern Africa (CIPESA)
REFRESH-INTERVAL;VALUE=DURATION:PT1H
X-Robots-Tag:noindex
X-PUBLISHED-TTL:PT1H
BEGIN:VTIMEZONE
TZID:Africa/Kampala
BEGIN:STANDARD
TZOFFSETFROM:+0300
TZOFFSETTO:+0300
TZNAME:EAT
DTSTART:20190101T000000
END:STANDARD
END:VTIMEZONE
BEGIN:VEVENT
DTSTART;VALUE=DATE:20200318
DTEND;VALUE=DATE:20200320
DTSTAMP:20260420T093708
CREATED:20200110T133246Z
LAST-MODIFIED:20200110T133246Z
UID:9199-1584489600-1584662399@cipesa.org
SUMMARY:Women in Tech Africa 2020
DESCRIPTION:With tech leaders and professionals from across Africa\, Women in Tech Africa 2020 is set to become the most progressive conference for women in technology on the continent\, with game-changing sessions\, inspiring speakers and cutting-edge technology all under one roof.\nClick here for more information on the event.
URL:https://cipesa.org/event/women-in-tech-africa-2020/
LOCATION:Cape Town\, South Africa\, Cape Town\, South Africa\, Cape Town\, South Africa
CATEGORIES:Events
END:VEVENT
BEGIN:VEVENT
DTSTART;VALUE=DATE:20200318
DTEND;VALUE=DATE:20200321
DTSTAMP:20260420T093708
CREATED:20200302T132707Z
LAST-MODIFIED:20200302T132707Z
UID:9339-1584489600-1584748799@cipesa.org
SUMMARY:Civic Tech Innovation Forum 2020
DESCRIPTION:The Civic Tech Innovation Network (CTIN) is convening an open forum to bring together South Africa’s civic tech community\, both governmental and non-governmental for the purpose of sharing\, learning\, inspiring\, and overall capability building.\nThis event is for all people who work on building relationships between government and citizens\, and are interested in how new technologies could enable better services\, communication and accountability.\nClick here for event details.
URL:https://cipesa.org/event/civic-tech-innovation-forum-2020/
LOCATION:Johannesburg\, South Africa\, Johannesburg\, South Africa\, Cape Town\, South Africa
CATEGORIES:Events
END:VEVENT
END:VCALENDAR