BEGIN:VCALENDAR
VERSION:2.0
PRODID:-//Collaboration on International ICT Policy for East and Southern Africa (CIPESA) - ECPv6.15.20//NONSGML v1.0//EN
CALSCALE:GREGORIAN
METHOD:PUBLISH
X-WR-CALNAME:Collaboration on International ICT Policy for East and Southern Africa (CIPESA)
X-ORIGINAL-URL:https://cipesa.org
X-WR-CALDESC:Events for Collaboration on International ICT Policy for East and Southern Africa (CIPESA)
REFRESH-INTERVAL;VALUE=DURATION:PT1H
X-Robots-Tag:noindex
X-PUBLISHED-TTL:PT1H
BEGIN:VTIMEZONE
TZID:Africa/Kampala
BEGIN:STANDARD
TZOFFSETFROM:+0300
TZOFFSETTO:+0300
TZNAME:EAT
DTSTART:20190101T000000
END:STANDARD
END:VTIMEZONE
BEGIN:VEVENT
DTSTART;VALUE=DATE:20200310
DTEND;VALUE=DATE:20200314
DTSTAMP:20260420T093607
CREATED:20200220T161113Z
LAST-MODIFIED:20200220T161113Z
UID:9306-1583798400-1584143999@cipesa.org
SUMMARY:Africa ICS Cybersecurity Conference 2020
DESCRIPTION:Technology and cyberspace are key enablers of Africa’s agenda 2063\, Kenya’s Vision 2030 coupled with the current big 4 agenda on Manufacturing\, Food security and Health which aims at using technology and innovation to transform Kenya into an industrialized and secure middle-income country.\nClick here for more details on the event.
URL:https://cipesa.org/event/africa-ics-cybersecurity-conference-2020/
LOCATION:Nairobi\, Kenya\, Nairobi\, Kenya
CATEGORIES:Events
END:VEVENT
BEGIN:VEVENT
DTSTART;VALUE=DATE:20200311
DTEND;VALUE=DATE:20200313
DTSTAMP:20260420T093607
CREATED:20200220T161816Z
LAST-MODIFIED:20200220T161816Z
UID:9308-1583884800-1584057599@cipesa.org
SUMMARY:Blockchain Africa Conference 2020
DESCRIPTION:Join Africa’s leading blockchain and cryptocurrency conference\, the Blockchain Africa Conference 2020 where we will cut through the hype and showcase the potential of these disruptive and innovative technologies. Visit here for more details on the event.
URL:https://cipesa.org/event/blockchain-africa-conference-2020/
LOCATION:Johannesburg\, South Africa\, Johannesburg\, South Africa\, Cape Town\, South Africa
CATEGORIES:Events
END:VEVENT
END:VCALENDAR