BEGIN:VCALENDAR
VERSION:2.0
PRODID:-//Collaboration on International ICT Policy for East and Southern Africa (CIPESA) - ECPv6.15.20//NONSGML v1.0//EN
CALSCALE:GREGORIAN
METHOD:PUBLISH
X-WR-CALNAME:Collaboration on International ICT Policy for East and Southern Africa (CIPESA)
X-ORIGINAL-URL:https://cipesa.org
X-WR-CALDESC:Events for Collaboration on International ICT Policy for East and Southern Africa (CIPESA)
REFRESH-INTERVAL;VALUE=DURATION:PT1H
X-Robots-Tag:noindex
X-PUBLISHED-TTL:PT1H
BEGIN:VTIMEZONE
TZID:Africa/Kampala
BEGIN:STANDARD
TZOFFSETFROM:+0300
TZOFFSETTO:+0300
TZNAME:EAT
DTSTART:20180101T000000
END:STANDARD
END:VTIMEZONE
BEGIN:VEVENT
DTSTART;VALUE=DATE:20190926
DTEND;VALUE=DATE:20190929
DTSTAMP:20260422T215837
CREATED:20181210T111829Z
LAST-MODIFIED:20181210T111829Z
UID:5394-1569456000-1569715199@cipesa.org
SUMMARY:Forum on Internet Freedom in Africa 2019 (FIFAfrica19)
DESCRIPTION:Indeed\, spreading the physical footprint of FIFAfrica across different regions of the continent ensures that the Forum lives up to its goal of unpacking internet freedom challenges and opportunities in sub-regions of Africa and developing responses that are collaborative\, and informed by insights from the experience of other sub-regions of the continen.\nSee our FIFAfrica event page here.  More information on FIFAfrica2019 coming soon.
URL:https://cipesa.org/event/forum-on-internet-freedom-in-africa-2019-fifafrica19/
LOCATION:Addis Ababa\, Ethiopia\, Addis Ababa\, Ethiopia\, Addis Ababa\, Ethiopia
CATEGORIES:Events
ORGANIZER;CN="CIPESA":MAILTO:programmes@cipesa.org
END:VEVENT
BEGIN:VEVENT
DTSTART;VALUE=DATE:20190928
DTEND;VALUE=DATE:20190929
DTSTAMP:20260422T215837
CREATED:20190514T141136Z
LAST-MODIFIED:20190514T141136Z
UID:8714-1569628800-1569715199@cipesa.org
SUMMARY:International Day for Universal Access to Information 2019
DESCRIPTION:IDUAI has particular relevance with the new 2030 Development Agenda\, and in particular with Sustainable Development Goal (SDG) target 16.10 which calls for ensuring public access to information and protection of fundamental freedoms.\nInformation\, Digital AgClick here to access the event page for more information.
URL:https://cipesa.org/event/international-day-for-universal-access-to-information-2019/
LOCATION:World Wide
CATEGORIES:Events
END:VEVENT
END:VCALENDAR