BEGIN:VCALENDAR
VERSION:2.0
PRODID:-//Collaboration on International ICT Policy for East and Southern Africa (CIPESA) - ECPv6.15.20//NONSGML v1.0//EN
CALSCALE:GREGORIAN
METHOD:PUBLISH
X-WR-CALNAME:Collaboration on International ICT Policy for East and Southern Africa (CIPESA)
X-ORIGINAL-URL:https://cipesa.org
X-WR-CALDESC:Events for Collaboration on International ICT Policy for East and Southern Africa (CIPESA)
REFRESH-INTERVAL;VALUE=DURATION:PT1H
X-Robots-Tag:noindex
X-PUBLISHED-TTL:PT1H
BEGIN:VTIMEZONE
TZID:Africa/Kampala
BEGIN:STANDARD
TZOFFSETFROM:+0300
TZOFFSETTO:+0300
TZNAME:EAT
DTSTART:20180101T000000
END:STANDARD
END:VTIMEZONE
BEGIN:VEVENT
DTSTART;VALUE=DATE:20190716
DTEND;VALUE=DATE:20190719
DTSTAMP:20260423T012916
CREATED:20190207T150403Z
LAST-MODIFIED:20190207T150403Z
UID:5468-1563235200-1563494399@cipesa.org
SUMMARY:2019 International Cyber Security and Intelligence Conference
DESCRIPTION:The International Cybersecurity and Intelligence Conference (ICSIC) provides a rare opportunity for global experts in Cyber security\, Intelligence\, Counter-Terrorism\, National Infrastructure\, Industry\, Cyber Operations research\, Law enforcement\, and Legal Practitioners to proffer unified ideas and best practices on cyber safety\, attacks prevention and secured cyber world. ICSIC\, is a unique cyber security and intelligence conference that features high profile speakers from cyber security\, privacy\, intelligence\, national critical infrastructure and counter-terrorism. Attendees will have a unique privilege to interact with some of the best brains in the industry.\nFor more details on the event\, please click on ICSIC.
URL:https://cipesa.org/event/2019-international-cyber-security-and-intelligence-conference/
LOCATION:Toronto\, Canada\, Toronto\, Canada\, Toronto\, Canada
END:VEVENT
END:VCALENDAR