BEGIN:VCALENDAR
VERSION:2.0
PRODID:-//Collaboration on International ICT Policy for East and Southern Africa (CIPESA) - ECPv6.15.20//NONSGML v1.0//EN
CALSCALE:GREGORIAN
METHOD:PUBLISH
X-ORIGINAL-URL:https://cipesa.org
X-WR-CALDESC:Events for Collaboration on International ICT Policy for East and Southern Africa (CIPESA)
REFRESH-INTERVAL;VALUE=DURATION:PT1H
X-Robots-Tag:noindex
X-PUBLISHED-TTL:PT1H
BEGIN:VTIMEZONE
TZID:Africa/Kampala
BEGIN:STANDARD
TZOFFSETFROM:+0300
TZOFFSETTO:+0300
TZNAME:EAT
DTSTART:20180101T000000
END:STANDARD
END:VTIMEZONE
BEGIN:VEVENT
DTSTART;VALUE=DATE:20190528
DTEND;VALUE=DATE:20190531
DTSTAMP:20260423T033059
CREATED:20190124T124329Z
LAST-MODIFIED:20190124T124329Z
UID:5445-1559001600-1559260799@cipesa.org
SUMMARY:2nd International Conference on ICT for Development for Africa (ICT4DA 2019)
DESCRIPTION:ICT4DA 2019 is the 2nd international conference that aims to bring together researchers\, engineers\, developers\, and practitioners from the academia and the industry to present and discuss their research work in the area of ICT for Development. This conference seeks to facilitate the transfer of experience\, adaptation of methods\, and where possible\, foster collaboration among different groups.\nClick on ICT4DA 2019 for more information on the event details.
URL:https://cipesa.org/event/2nd-international-conference-on-ict-for-development-for-africa-ict4da-2019/
LOCATION:Bahir Dar\, Ethiopia\, Addis Ababa\, Ethiopia
CATEGORIES:Events
END:VEVENT
END:VCALENDAR