BEGIN:VCALENDAR
VERSION:2.0
PRODID:-//Collaboration on International ICT Policy for East and Southern Africa (CIPESA) - ECPv6.15.20//NONSGML v1.0//EN
CALSCALE:GREGORIAN
METHOD:PUBLISH
X-ORIGINAL-URL:https://cipesa.org
X-WR-CALDESC:Events for Collaboration on International ICT Policy for East and Southern Africa (CIPESA)
REFRESH-INTERVAL;VALUE=DURATION:PT1H
X-Robots-Tag:noindex
X-PUBLISHED-TTL:PT1H
BEGIN:VTIMEZONE
TZID:Africa/Kampala
BEGIN:STANDARD
TZOFFSETFROM:+0300
TZOFFSETTO:+0300
TZNAME:EAT
DTSTART:20180101T000000
END:STANDARD
END:VTIMEZONE
BEGIN:VEVENT
DTSTART;VALUE=DATE:20190227
DTEND;VALUE=DATE:20190228
DTSTAMP:20260423T091556
CREATED:20190207T155352Z
LAST-MODIFIED:20190207T155352Z
UID:5475-1551225600-1551311999@cipesa.org
SUMMARY:Global Cyber Security Summit
DESCRIPTION:The focus for this full-day program will be centered around strategic innovation in the war against cyber attacks — specifically addressing how cyber resilience will require an integrated approach across organizational functions\, along with addressing the role of public-private partnerships in bolstering cyber defenses across sectors.\nFor more details on the event\, click here.
URL:https://cipesa.org/event/global-cyber-security-summit/
LOCATION:London\, UK\, London\, UK\, London\, United Kingdom
CATEGORIES:Events
END:VEVENT
END:VCALENDAR